BEGIN:VCALENDAR
VERSION:2.0
PRODID:-//Montgomery County Paralegal Association - ECPv6.15.12.2//NONSGML v1.0//EN
CALSCALE:GREGORIAN
METHOD:PUBLISH
X-WR-CALNAME:Montgomery County Paralegal Association
X-ORIGINAL-URL:https://www.montcoparalegals.org
X-WR-CALDESC:Events for Montgomery County Paralegal Association
REFRESH-INTERVAL;VALUE=DURATION:PT1H
X-Robots-Tag:noindex
X-PUBLISHED-TTL:PT1H
BEGIN:VTIMEZONE
TZID:America/New_York
BEGIN:DAYLIGHT
TZOFFSETFROM:-0500
TZOFFSETTO:-0400
TZNAME:EDT
DTSTART:20240310T070000
END:DAYLIGHT
BEGIN:STANDARD
TZOFFSETFROM:-0400
TZOFFSETTO:-0500
TZNAME:EST
DTSTART:20241103T060000
END:STANDARD
BEGIN:DAYLIGHT
TZOFFSETFROM:-0500
TZOFFSETTO:-0400
TZNAME:EDT
DTSTART:20250309T070000
END:DAYLIGHT
BEGIN:STANDARD
TZOFFSETFROM:-0400
TZOFFSETTO:-0500
TZNAME:EST
DTSTART:20251102T060000
END:STANDARD
BEGIN:DAYLIGHT
TZOFFSETFROM:-0500
TZOFFSETTO:-0400
TZNAME:EDT
DTSTART:20260308T070000
END:DAYLIGHT
BEGIN:STANDARD
TZOFFSETFROM:-0400
TZOFFSETTO:-0500
TZNAME:EST
DTSTART:20261101T060000
END:STANDARD
BEGIN:DAYLIGHT
TZOFFSETFROM:-0500
TZOFFSETTO:-0400
TZNAME:EDT
DTSTART:20270314T070000
END:DAYLIGHT
BEGIN:STANDARD
TZOFFSETFROM:-0400
TZOFFSETTO:-0500
TZNAME:EST
DTSTART:20271107T060000
END:STANDARD
END:VTIMEZONE
BEGIN:VEVENT
DTSTART;TZID=America/New_York:20251204T181500
DTEND;TZID=America/New_York:20251204T191500
DTSTAMP:20260425T195636
CREATED:20250218T200438Z
LAST-MODIFIED:20250218T200439Z
UID:3097-1764872100-1764875700@www.montcoparalegals.org
SUMMARY:December Board Meeting
DESCRIPTION:In Person Location TBD
URL:https://www.montcoparalegals.org/event/december-board-meeting-2/
END:VEVENT
BEGIN:VEVENT
DTSTART;TZID=America/New_York:20260121T180000
DTEND;TZID=America/New_York:20260121T190000
DTSTAMP:20260425T195636
CREATED:20260117T152942Z
LAST-MODIFIED:20260117T153006Z
UID:3180-1769018400-1769022000@www.montcoparalegals.org
SUMMARY:Protecting the Attorney Client Privilege in Criminal Defense Matters
DESCRIPTION:Presented by Judge Henry Hilles \n\n\n\nNFPA and Keystone Alliance 1.0 (E) CLE \n\n\n\nRegister Here \n\n\n\nFree for MCPA Members\, $10 for Keystone Alliance/NFPA Affiliated\, & $20 for Non-Members \n\n\n\nPay Here \n\n\n\nQuestions? Find Kelly Here
URL:https://www.montcoparalegals.org/event/protecting-the-attorney-client-privilege-in-criminal-defense-matters/
END:VEVENT
BEGIN:VEVENT
DTSTART;TZID=America/New_York:20260429T180000
DTEND;TZID=America/New_York:20260429T190000
DTSTAMP:20260425T195636
CREATED:20260422T141801Z
LAST-MODIFIED:20260422T141826Z
UID:3200-1777485600-1777489200@www.montcoparalegals.org
SUMMARY:LGBTQ+ 101 for Legal Professionals (Encore Edition!)
DESCRIPTION:Presented by Jennifer Echikson \n\n\n\nRegister Here \n\n\n\nPay Here \n\n\n\nFree for MCPA Members\, $10 for Keystone Alliance Members and $20 for NFPA Affiliate Members
URL:https://www.montcoparalegals.org/event/lgbtq-101-for-legal-professionals-encore-edition/
END:VEVENT
END:VCALENDAR