BEGIN:VCALENDAR
VERSION:2.0
PRODID:-//Montgomery County Paralegal Association - ECPv6.15.12.2//NONSGML v1.0//EN
CALSCALE:GREGORIAN
METHOD:PUBLISH
X-WR-CALNAME:Montgomery County Paralegal Association
X-ORIGINAL-URL:https://www.montcoparalegals.org
X-WR-CALDESC:Events for Montgomery County Paralegal Association
REFRESH-INTERVAL;VALUE=DURATION:PT1H
X-Robots-Tag:noindex
X-PUBLISHED-TTL:PT1H
BEGIN:VTIMEZONE
TZID:America/New_York
BEGIN:DAYLIGHT
TZOFFSETFROM:-0500
TZOFFSETTO:-0400
TZNAME:EDT
DTSTART:20190310T070000
END:DAYLIGHT
BEGIN:STANDARD
TZOFFSETFROM:-0400
TZOFFSETTO:-0500
TZNAME:EST
DTSTART:20191103T060000
END:STANDARD
BEGIN:DAYLIGHT
TZOFFSETFROM:-0500
TZOFFSETTO:-0400
TZNAME:EDT
DTSTART:20200308T070000
END:DAYLIGHT
BEGIN:STANDARD
TZOFFSETFROM:-0400
TZOFFSETTO:-0500
TZNAME:EST
DTSTART:20201101T060000
END:STANDARD
BEGIN:DAYLIGHT
TZOFFSETFROM:-0500
TZOFFSETTO:-0400
TZNAME:EDT
DTSTART:20210314T070000
END:DAYLIGHT
BEGIN:STANDARD
TZOFFSETFROM:-0400
TZOFFSETTO:-0500
TZNAME:EST
DTSTART:20211107T060000
END:STANDARD
BEGIN:DAYLIGHT
TZOFFSETFROM:-0500
TZOFFSETTO:-0400
TZNAME:EDT
DTSTART:20220313T070000
END:DAYLIGHT
BEGIN:STANDARD
TZOFFSETFROM:-0400
TZOFFSETTO:-0500
TZNAME:EST
DTSTART:20221106T060000
END:STANDARD
END:VTIMEZONE
BEGIN:VEVENT
DTSTART;TZID=America/New_York:20211104T181500
DTEND;TZID=America/New_York:20211104T193000
DTSTAMP:20260425T213014
CREATED:20210221T211426Z
LAST-MODIFIED:20210221T211430Z
UID:2494-1636049700-1636054200@www.montcoparalegals.org
SUMMARY:Board Meeting
DESCRIPTION:The MCPA Board will meet on the first Thursday of every month except July and August. All are Welcome to attend. Please contact any board member to get the zoom information.
URL:https://www.montcoparalegals.org/event/board-meeting-7/
END:VEVENT
BEGIN:VEVENT
DTSTART;TZID=America/New_York:20211031T170000
DTEND;TZID=America/New_York:20211031T170000
DTSTAMP:20260425T213014
CREATED:20210820T200833Z
LAST-MODIFIED:20210820T200836Z
UID:2582-1635699600-1635699600@www.montcoparalegals.org
SUMMARY:Deadline for MCPA Board Nominations
DESCRIPTION:We are excited to announce open Board positions within MCPA.  \n\n\n\nBoard members are expected to attend monthly Boardmeetings\, minus July and August. Board meetings are currently held on the first Thursday of each month. Positions are held for a two year term.  \n\n\n\nIf you are interested in becoming a Board member or ever wondered what it looks like to be on the Board\, feel free to attend one of our meetings. Our next meeting will be held on September 2\, 2021 at 6:15 p.m. via Zoom. You can reach out to any current Board member for details. \n\n\n\nIf you are interested in becoming a candidate for this position\, kindly email me a short bio and headshot of yourself. Your submission must be received no later than October 31st to be eligible for this year’s election in November. If you are interested\, but have more questions\, please let me know. \n\n\n\nWe look forward to hearing from you.
URL:https://www.montcoparalegals.org/event/deadline-for-mcpa-board-nominations/
END:VEVENT
BEGIN:VEVENT
DTSTART;TZID=America/New_York:20211007T181500
DTEND;TZID=America/New_York:20211007T193000
DTSTAMP:20260425T213014
CREATED:20210221T211314Z
LAST-MODIFIED:20210221T211316Z
UID:2492-1633630500-1633635000@www.montcoparalegals.org
SUMMARY:Board Meeting
DESCRIPTION:The MCPA Board will meet on the first Thursday of every month except July and August. All are Welcome to attend. Please contact any board member to get the zoom information.
URL:https://www.montcoparalegals.org/event/board-meeting-6/
END:VEVENT
BEGIN:VEVENT
DTSTART;TZID=America/New_York:20211005T123000
DTEND;TZID=America/New_York:20211005T133000
DTSTAMP:20260425T213014
CREATED:20210927T195914Z
LAST-MODIFIED:20210927T195917Z
UID:2611-1633437000-1633440600@www.montcoparalegals.org
SUMMARY:October CLE - Appellate Procedure for Pennsylvania Trial Lawyers
DESCRIPTION:Presented by: Virginia Hinrichs McMichael\, EsquireManaging Attorney\, Appellate Law Group LLC \n\n\n\nApproved for CLE 1.0 (S) by NFPA and Keystone Alliance \n\n\n\nVia Zoom \n\n\n\nTo register please visit:  \n\n\n\nhttps://us02web.zoom.us/meeting/register/tZIvdeurpjIrHt0K2cIqybmXvYrOTVAjiqWA \n\n\n\nFor any questions\, please contact:Jennifer Echikson\, Pa.C.P. jechikson @ dischellbartle.com \n\n\n\nFree for MCPA Members$10.00 for NFPA affiliated members (evidence required)$20.00 for non-members \n\n\n\nThis month\, MCPA will be collecting for Laurel HouseTo learn more and to donate\, please visit: https://laurel-house.org/ \n\n\n\n \n\n\n\nClick Here for Flyer
URL:https://www.montcoparalegals.org/event/october-cle-appellate-procedure-for-pennsylvania-trial-lawyers/
END:VEVENT
BEGIN:VEVENT
DTSTART;TZID=America/New_York:20210923T183000
DTEND;TZID=America/New_York:20210923T200000
DTSTAMP:20260425T213014
CREATED:20210825T144930Z
LAST-MODIFIED:20210825T144933Z
UID:2586-1632421800-1632427200@www.montcoparalegals.org
SUMMARY:Bachelor-to-JD Program Info via Pierce College Webinar
DESCRIPTION:Go to www.pierce.edu/bachelortojd to register. \n\n\n\nLearn about Pierce College’s Bachelor-to-Juris Doctor Program with Rutgers Law School and how you can earn a bachelor’s from Pierce and a law degree from Rutgers in just six years.  \n\n\n\n \n\n\n\n\n\n\n\nClick here for flyer
URL:https://www.montcoparalegals.org/event/bachelor-to-jd-program-info-via-pierce-college-webinar/
END:VEVENT
BEGIN:VEVENT
DTSTART;TZID=America/New_York:20210920T183000
DTEND;TZID=America/New_York:20210920T193000
DTSTAMP:20260425T213014
CREATED:20210910T193135Z
LAST-MODIFIED:20210910T193138Z
UID:2596-1632162600-1632166200@www.montcoparalegals.org
SUMMARY:September 2021 CLE - How Real Estate Affects Family Law
DESCRIPTION:How Real Estate Affects Family LawPresented by: Phil Voorhees Realtor/Partner – The Mark McGuire Team \n\n\n\n\n\nApplying for approval of CLE 1.0 (S) by NFPA and Keystone AllianceVia Zoom    \n\n\n\nTo register please visit:https://us02web.zoom.us/meeting/register/tZ0od-msqTMpGtyFvRe4EmBygDnzOef-hAvg \n\n\n\nFor any questions\, please contact: Jennifer Echikson\, Pa.C.P.  jechikson @ dischellbartle.com \n\n\n\nFree for MCPA Members$10.00 for NFPA affiliated members (evidence required)$20.00 for non-members \n\n\n\nThis month\, MCPA is spotlighting: Between Friends OutreachTo learn more\, please visit:https://www.bfoutreach.net/ourmission \n\n\n\n For any questions\, please contact: Jennifer Echikson\, Pa.C.P.  jechikson @ dischellbartle.com  \n\n\n\nClick here for flyer
URL:https://www.montcoparalegals.org/event/september-2021-cle-how-real-estate-affects-family-law/
END:VEVENT
BEGIN:VEVENT
DTSTART;TZID=America/New_York:20210902T181500
DTEND;TZID=America/New_York:20210902T193000
DTSTAMP:20260425T213014
CREATED:20210221T211113Z
LAST-MODIFIED:20210221T211115Z
UID:2490-1630606500-1630611000@www.montcoparalegals.org
SUMMARY:Board Meeting
DESCRIPTION:The MCPA Board will meet on the first Thursday of every month except July and August. All are Welcome to attend. Please contact any board member to get the zoom information.
URL:https://www.montcoparalegals.org/event/board-meeting-5/
END:VEVENT
BEGIN:VEVENT
DTSTART;TZID=America/New_York:20210616T123000
DTEND;TZID=America/New_York:20210616T133000
DTSTAMP:20260425T213014
CREATED:20210604T165251Z
LAST-MODIFIED:20210604T165254Z
UID:2566-1623846600-1623850200@www.montcoparalegals.org
SUMMARY:JUNE CLE SEMINAR - Civil Rights: A Primer on 42 U.S.C. §1983
DESCRIPTION:Presented by: Anthony R. Sherr\, Esquire of Sherr Law Group \n\n\n\nJune 16\, 2021 12:30 p.m. – 1:30 p.m. Via ZoomApplying for approval of CLE 1.0 (S) by NFPA and Keystone Alliance \n\n\n\nTo register please visit: https://us02web.zoom.us/meeting/register/tZcsfuCgqTkoEtZLLe6rg6Cj25E3noJuIXm2 \n\n\n\nFor any questions\, please contact: Jennifer Echikson\, Pa.C.P.jechikson@dischellbartle.com \n\n\n\nFree for MCPA Members$10.00 for NFPA affiliated members (evidence required); $20.00 for non-members \n\n\n\nThis month\, MCPA will be collecting for the Infinite Mission.Please visit the link below to learn more and to donate:https://theinfinitemission.org \n\n\n\nLink to flyer
URL:https://www.montcoparalegals.org/event/june-cle-seminar-civil-rights-a-primer-on-42-u-s-c-%c2%a71983/
END:VEVENT
BEGIN:VEVENT
DTSTART;TZID=America/New_York:20210603T181500
DTEND;TZID=America/New_York:20210603T193000
DTSTAMP:20260425T213014
CREATED:20210221T211006Z
LAST-MODIFIED:20210221T211008Z
UID:2488-1622744100-1622748600@www.montcoparalegals.org
SUMMARY:Board Meeting
DESCRIPTION:The MCPA Board will meet on the first Thursday of every month except July and August. All are Welcome to attend. Please contact any board member to get the zoom information.
URL:https://www.montcoparalegals.org/event/board-meeting-4/
END:VEVENT
BEGIN:VEVENT
DTSTART;TZID=America/New_York:20210517T183000
DTEND;TZID=America/New_York:20210517T193000
DTSTAMP:20260425T213014
CREATED:20210504T183632Z
LAST-MODIFIED:20210504T183948Z
UID:2547-1621276200-1621279800@www.montcoparalegals.org
SUMMARY:May CLE - Under Investigation... The Process
DESCRIPTION:Presented by: Michelle Harris – Owner of Harris Investigations. \n\n\n\nVia ZOOM \n\n\n\n**Applying for approval of CLE 1.0 (S) by NFPA and Keystone Alliance** \n\n\n\nFree for MCPA Members$10.00 for NFPA affiliated members (evidence required)$20.00 for non-members \n\n\n\nTo Register Please Visit: https://us02web.zoom.us/meeting/register/tZYtcu6vqTMqHNUSd3mwnmAuzOooruWPPp9Z \n\n\n\nFor any questions please contact Jennifer Echikson\, Pa.C.P. at jechikson@dischellbartle.com \n\n\n\nThis month\, MCPA will be collecting for Manna on Main Street.  Please visit the link below to donate:  \n\n\n\nhttps://Mannaonmain.org/give-money/donate-now \n\n\n\n Click Here for Flyer
URL:https://www.montcoparalegals.org/event/may-cle-under-investigation-the-process/
END:VEVENT
BEGIN:VEVENT
DTSTART;TZID=America/New_York:20210506T181500
DTEND;TZID=America/New_York:20210506T193000
DTSTAMP:20260425T213014
CREATED:20210221T210843Z
LAST-MODIFIED:20210221T210846Z
UID:2486-1620324900-1620329400@www.montcoparalegals.org
SUMMARY:Board Meeting
DESCRIPTION:The MCPA Board will meet on the first Thursday of every month except July and August. All are Welcome to attend. Please contact any board member to get the zoom information.
URL:https://www.montcoparalegals.org/event/board-meeting-3/
END:VEVENT
BEGIN:VEVENT
DTSTART;TZID=America/New_York:20210428T180000
DTEND;TZID=America/New_York:20210428T193000
DTSTAMP:20260425T213014
CREATED:20210407T194201Z
LAST-MODIFIED:20210407T194555Z
UID:2510-1619632800-1619638200@www.montcoparalegals.org
SUMMARY:APRIL CLE - Mongomery Child Advocacy Project - Representing Abused\, Neglected\, and Trafficked Children in Mongomery  County
DESCRIPTION:Montgomery Child Advocacy Project – Representing Abused\, Neglected\, and Trafficked Children in Montgomery County   Presented by: Mary Pugh\, Esquire\, and Sharon Jones Hofer\, Esquire   **Applying for approval of CLE 1.5 (S) by NFPA and Keystone Alliance**  April 28\, 2021 6:00 p.m. – 7:30 p.m. Via Zoom  To register please visit: https://us02web.zoom.us/meeting/register/tZYudOyuqj0tHNTW6-vdQTLivWGAfnA9FcC9   For any questions\, please contact: Jennifer Echikson\, Pa.C.P. jechikson @ dischellbartle.com  Free for MCPA Members; $10.00 for NFPA affiliated members (evidence required); $20.00 for non-members  This month\, MCPA will be collecting for the Montgomery Child Advocate Project.  Please visit the link below to donate:   https://www.mcapkids.org/donate/Click here for Flyer
URL:https://www.montcoparalegals.org/event/april-cle-mongomery-child-advocacy-project-representing-abused-neglected-and-trafficked-children-in-mongomery-county/
END:VEVENT
BEGIN:VEVENT
DTSTART;TZID=America/New_York:20210401T181500
DTEND;TZID=America/New_York:20210401T193000
DTSTAMP:20260425T213014
CREATED:20210221T210731Z
LAST-MODIFIED:20210221T210734Z
UID:2484-1617300900-1617305400@www.montcoparalegals.org
SUMMARY:Board Meeting
DESCRIPTION:The MCPA Board will meet on the first Thursday of every month except July and August. All are Welcome to attend. Please contact any board member to get the zoom information.
URL:https://www.montcoparalegals.org/event/board-meeting-2/
END:VEVENT
BEGIN:VEVENT
DTSTART;TZID=America/New_York:20210309T180000
DTEND;TZID=America/New_York:20210309T193000
DTSTAMP:20260425T213014
CREATED:20210221T205131Z
LAST-MODIFIED:20210221T205406Z
UID:2473-1615312800-1615318200@www.montcoparalegals.org
SUMMARY:March 2021 CLE Seminar - Representing Applicants for Naturalization/U.S. Citizenship
DESCRIPTION:Via Zoom   \n\n\n\nWhat You Need to Know About Representing Applicants for Naturalization/U.S. Citizenship \n\n\n\nPresented by Emily M. Cohen\, Esquire\, and Mary Sims\, Esquire \n\n\n\n**Applying for approval of CLE 1.5 (E) by NFPA and Keystone Alliance** \n\n\n\nFree for MCPA Members; $10.00 for NFPA affiliated members (evidence required); $20.00 for non-members \n\n\n\nCollection: MONTGOMERY COUNTY OFFICE OF CHILDREN & YOUTH  To donate supplies to the Montgomery County OCY\, please visit their Amazon wishlist at (https://www.amazon.com/hz/wishlist/ls/1668FD8RGO9L6?ref_=wl_share) \n\n\n\nTo register please visit: https://us02web.zoom.us/meeting/register/tZYldeCrpzooGNFt2-l8Lbu5qHzw2lMF_Mmz \n\n\n\nFor any questions\, please contact: Jennifer Echikson\,  Pa.C.P. \n\n\n\njechikson@dischellbartle \n\n\n\nClick Here for Flyer
URL:https://www.montcoparalegals.org/event/march-2021-cle-seminar-representing-applicants-for-naturalization-u-s-citizenship/
END:VEVENT
BEGIN:VEVENT
DTSTART;TZID=America/New_York:20210304T181500
DTEND;TZID=America/New_York:20210304T193000
DTSTAMP:20260425T213014
CREATED:20210221T210522Z
LAST-MODIFIED:20210221T210525Z
UID:2482-1614881700-1614886200@www.montcoparalegals.org
SUMMARY:Board meeting
DESCRIPTION:The MCPA Board will meet on the first Thursday of every month except July and August.  All are Welcome to attend.  Please contact any board member to get the zoom information.
URL:https://www.montcoparalegals.org/event/board-meeting/
END:VEVENT
BEGIN:VEVENT
DTSTART;TZID=America/New_York:20210216T180000
DTEND;TZID=America/New_York:20210216T193000
DTSTAMP:20260425T213014
CREATED:20210202T230242Z
LAST-MODIFIED:20210202T230245Z
UID:2445-1613498400-1613503800@www.montcoparalegals.org
SUMMARY:February CLE - MINDFUL MEDITATION / MINDFULNESS-BASED STRESS REDUCTION
DESCRIPTION:Presented by  Phillip Sallavanti \n\n\n\n**Applying for approval of CLE 1.0 (S) by NFPA and Keystone Alliance** \n\n\n\nFree for MCPA Members \n\n\n\n$10.00 for NFPA affiliated members (evidence required) \n\n\n\n$20.00 for non-members \n\n\n\nCollection: MONTGOMERY COUNTY OFFICE OF CHILDREN & YOUTH\, To donate supplies to the Montgomery County OCY\, please visit their Amazon wishlist at: \n\n\n\nhttps://www.amazon.com/hz/wishlist/ls/1668FD8RGO9L6?ref_=wl_share \n\n\n\nTo register please visit: \n\n\n\nhttps://us02web.zoom.us/meeting/register/tZwucOCsqD4uGtNa7r_nn9omEp2ZdcX_GjNg \n\n\n\nFor any questions\, please contact: Jennifer Echikson\, Pa.C.P.  \n\n\n\njechikson @ dischellbartle.com \n\n\n\nClick here for flyer
URL:https://www.montcoparalegals.org/event/february-cle-mindful-meditation-mindfulness-based-stress-reduction/
END:VEVENT
BEGIN:VEVENT
DTSTART;TZID=America/New_York:20210125T190000
DTEND;TZID=America/New_York:20210125T210000
DTSTAMP:20260425T213014
CREATED:20210118T201526Z
LAST-MODIFIED:20210118T201705Z
UID:2426-1611601200-1611608400@www.montcoparalegals.org
SUMMARY:January 2021 CLE - INDUCTION OF 2021 BOARD OF DIRECTORS AND GUARDIANSHIP CLE
DESCRIPTION:Presented byHonorable Stanley R. Ott (Ret.) \n\n\n\nApplying for approval of CLE 1.0 (S) by NFPA and Keystone Alliance \n\n\n\nFree for MCPA Members$10.00 for NFPA affiliated members (evidence required)$20.00 for non-members \n\n\n\nCOLLECTION: MONTGOMERY COUNTY OFFICE OF CHILDREN & YOUTHTo donate supplies to the Montgomery County OCY\,please visit their Amazon wishlist at:https://www.amazon.com/hz/wishlist/ls/1668FD8RGO9L6?ref_=wl_share \n\n\n\nTo register please visit:https://us02web.zoom.us/meeting/register/tZIqde2grTIjG9G_kHrp54TVGHBE8HLK9L5k \n\n\n\nFor any questions\, please contact: Jennifer Echikson\, Pa.C.P.  \n\n\n\njechikson @ dischellbartle.com \n\n\n\nClick here for flyer
URL:https://www.montcoparalegals.org/event/january-2021-cle-induction-of-2020-board-of-directors-and-guardianship-cle/
END:VEVENT
BEGIN:VEVENT
DTSTART;TZID=America/New_York:20201215T120100
DTEND;TZID=America/New_York:20201215T130000
DTSTAMP:20260425T213014
CREATED:20201208T211237Z
LAST-MODIFIED:20201208T211240Z
UID:2415-1608033660-1608037200@www.montcoparalegals.org
SUMMARY:DECEMBER CLE Income Taxes in Decedent Estates
DESCRIPTION:Please join the Chester County Paralegal Association for their final CLE event of 2020. \n\n\n\nPresenter: Don Bristol \n\n\n\nThis course will cover the issues surrounding a Decedent’s final individual income tax returns\, as well as an estate’s own set of income tax returns (the fiduciary income tax return). We’ll discuss tips and tricks for a successful information gathering and tax return preparation. The course is approved by CCPA and Keystone Alliance for one (1) substantive CLE credit. \n\n\n\nAll participants will receive a proof of attendance following the event. \n\n\n\nCLICK HERE to find the registration link for the event.  If you will be attending\, kindly forward the completed registration payment form to chescoparalegal@gmail.com. \n\n\n\nHave a great week\, and I hope to “see” you on December 15th!
URL:https://www.montcoparalegals.org/event/december-cle-income-taxes-in-decedent-estates/
END:VEVENT
BEGIN:VEVENT
DTSTART;TZID=America/New_York:20201210T190000
DTEND;TZID=America/New_York:20201210T203000
DTSTAMP:20260425T213014
CREATED:20201204T141934Z
LAST-MODIFIED:20201204T141937Z
UID:2409-1607626800-1607632200@www.montcoparalegals.org
SUMMARY:HOLIDAY TRIVIA NIGHT!
DESCRIPTION:Please join the Montgomery County Paralegal Association for a night of holiday trivia\, fun\, and prizes! \n\n\n\nWear your favorite ugly sweater and make your favorite cocktail (be sure to share the recipe!) as we celebrate the holiday season! \n\n\n\nRegister here: https://us02web.zoom.us/meeting/register/tZIudeiqqzIpGN3PxbYyUFU-FZpV6SbgXtu4 \n\n\n\nPrizes provided by: Reliable\, Harris Investigations and more! \n\n\n\nMCPA is collecting for Toys for Tots (https://toysfortotsbox.com/) \n\n\n\nand \n\n\n\nMontgomery County Office of Children and Youth \n\n\n\n(https://www.amazon.com/hz/wishlist/ls/1668FD8RGO9L6?ref_=wl_share) \n\n\n\n\
URL:https://www.montcoparalegals.org/event/holiday-trivia-night/
END:VEVENT
BEGIN:VEVENT
DTSTART;TZID=America/New_York:20201203T180000
DTEND;TZID=America/New_York:20201203T193000
DTSTAMP:20260425T213014
CREATED:20200511T202345Z
LAST-MODIFIED:20200522T161645Z
UID:2307-1607018400-1607023800@www.montcoparalegals.org
SUMMARY:December Board Meeting
DESCRIPTION:
URL:https://www.montcoparalegals.org/event/december-board-meeting/
LOCATION:Dischell\, Bartle & Dooley\, 1800 Pennbrook Parkway\, Suite 200\, Lansdale\, Pennsylvania\, 19446\, United States
CATEGORIES:Meeting
END:VEVENT
BEGIN:VEVENT
DTSTART;TZID=America/New_York:20201118T180000
DTEND;TZID=America/New_York:20201118T193000
DTSTAMP:20260425T213014
CREATED:20201104T201441Z
LAST-MODIFIED:20201104T201452Z
UID:2396-1605722400-1605727800@www.montcoparalegals.org
SUMMARY:November 2020 CLE - The Pennsylvania Mechanics' Lien Law
DESCRIPTION:Where: Via WebinarTopic: THE PENNSYLVANIA MECHANICS’ LIEN LAWPresented by: Robert R. Watson\, Jr\, Esquire of Eastburn and Gray\, PCApproved for CLE 1.5 (S) by NFPA and Keystone Alliance \n\n\n\nCost: Free for MCPA Members; $10.00 for NFPA affiliated members (evidence required); $20.00 for non-members \n\n\n\nCollection: MONTGOMERY COUNTY OFFICE OF CHILDREN & YOUTHTo donate supplies to the Montgomery County OCY\, please visit their Amazon wishlist at:https://www.amazon.com/hz/wishlist/ls/1668FD8RGO9L6?ref_=wl_share \n\n\n\nRSVP: To register please visit:https://attendee.gotowebinar.com/register/3959843159546453006 \n\n\n\nFor any questions\, please contact:Jennifer Echikson\, Pa.C.P.  jechikson @ dischellbartle.com \n\n\n\nClick here for flyer
URL:https://www.montcoparalegals.org/event/november-202-cle-the-pennsylvania-mechanics-lien-law/
END:VEVENT
BEGIN:VEVENT
DTSTART;TZID=America/New_York:20201112T080000
DTEND;TZID=America/New_York:20201121T170000
DTSTAMP:20260425T213014
CREATED:20201112T142535Z
LAST-MODIFIED:20201112T142704Z
UID:2401-1605168000-1605978000@www.montcoparalegals.org
SUMMARY:MCAP’s Salute to Heroes!
DESCRIPTION:While we can’t do the Dinner Dance this year\, we’ll keep the fun and fundraising going with our “home is where the heart is “VIRTUAL AUCTION & SOCIAL MEDIA FUN! \n\n\n\nAll proceeds support MCAP’s life-saving mission to end and prevent child abuse and neglect in Montgomery County through legal services\, advocacy\, and education. \n\n\n\nVIRTUAL AUCTION!Starting 11/12\, you will be able to check out our amazing auction items inspired by our theme “home is where the heart is!” They include:   Down the Shore! Weekend stay at private home in Sea Isle Phancy Philly! Overnight stay & dinner for 2 at the Inn at the Union LeagueGreen Thumb Garden! Custom-built raised bed gardenPhilly “LOVE” necklace and more!   Pay attention to alerts on your phone – you’ll be notified if you’ve been outbid\, and you can bid up to 9 pm 11/21!   We’ll contact winners to arrange getting your prize(s) to you.\n\n\n\nScope out prizes: 11/12\, 5pm   Bidding starts: 11/14\, 5pmMCAP AUCTION\n\n\n\nSOCIAL MEDIA FUN!MCAP Spotlight: Check our Facebook\, Twitter\, and LinkedIn pages throughout the week for pics and stories by and about the people who make MCAP great.   MCAP Memories: Let’s take a trip down memory lane with photos from past dinner dances! Send to heather@mcapkids.org OR post them on your social media with the hashtag #MCAPKids   Dancing Shoes: We’ll miss dancing together\, but we’d still love to see your dancing shoes! Get a photo in your dancing shoes – creative comfy-wear (sweats\, PJs) for the rest of your ensemble encouraged! Send to heather@mcapkids.org OR post them on your social media with the hashtag #MCAPKidsI WANT TO SPONSOR SALUTE TO HEROES!Sponsors are so important to our successful fundraising for this event. We have five levels of sponsorship and every level supports our work with child victims of abuse and neglect in Montgomery County.‌ ‌SPONSOR
URL:https://www.montcoparalegals.org/event/mcaps-salute-to-heroes/
END:VEVENT
BEGIN:VEVENT
DTSTART;TZID=America/New_York:20201105T180000
DTEND;TZID=America/New_York:20201105T193000
DTSTAMP:20260425T213014
CREATED:20200511T202139Z
LAST-MODIFIED:20200922T183115Z
UID:2305-1604599200-1604604600@www.montcoparalegals.org
SUMMARY:November Board Meeting
DESCRIPTION:
URL:https://www.montcoparalegals.org/event/november-board-meeting-2/
LOCATION:Dischell\, Bartle & Dooley\, PC\, 1800 Pennbrook Pkwy # 200\, Lansdale\, Pennsylvania\, United States
CATEGORIES:Meeting
END:VEVENT
BEGIN:VEVENT
DTSTART;TZID=America/New_York:20201022T180000
DTEND;TZID=America/New_York:20201022T193000
DTSTAMP:20260425T213014
CREATED:20201015T155133Z
LAST-MODIFIED:20201015T155137Z
UID:2391-1603389600-1603395000@www.montcoparalegals.org
SUMMARY:October CLE - PRIMER ON THE POLITICAL SUBDIVISION TORT CLAIMS ACT
DESCRIPTION:Via WebinarPresented by Christopher M. Horn\, EsquireFowler Hirtzel McNulty & Spauling LLPApplying for approval of CLE 1.0 (S) by NFPA and Keystone AlliancePart 2 but you do not need to have attended Part 1 to attend Part 2. \n\n\n\nCost: Free for MCPA Members; $10.00 for NFPA affiliated members (evidence required); $20.00 for non-members \n\n\n\nCollection: MONTGOMERY COUNTY OFFICE OF CHILDREN & YOUTHTo donate supplies to the Montgomery County OCY\,please visit their Amazon wishlist at:https://www.amazon.com/hz/wishlist/ls/1668FD8RGO9L6?ref_=wl_share \n\n\n\nRSVP: To register please visit:https://attendee.gotowebinar.com/register/5292405072608748814 \n\n\n\nFor any questions\, please contact:Jennifer Echikson\, Pa.C.P.  jechikson@dischellbartle.com \n\n\n\nClick here for flyer
URL:https://www.montcoparalegals.org/event/october-cle-primer-on-the-political-subdivision-tort-claims-act/
END:VEVENT
BEGIN:VEVENT
DTSTART;TZID=America/New_York:20201001T180000
DTEND;TZID=America/New_York:20201001T193000
DTSTAMP:20260425T213014
CREATED:20200511T201840Z
LAST-MODIFIED:20200511T201939Z
UID:2301-1601575200-1601580600@www.montcoparalegals.org
SUMMARY:October Board Meeting
DESCRIPTION:
URL:https://www.montcoparalegals.org/event/october-board-meeting-2/
LOCATION:Dischell\, Bartle & Dooley\, PC\, 1800 Pennbrook Pkwy # 200\, Lansdale\, Pennsylvania\, 19446\, United States
CATEGORIES:Meeting
END:VEVENT
BEGIN:VEVENT
DTSTART;TZID=America/New_York:20200929T180000
DTEND;TZID=America/New_York:20200929T193000
DTSTAMP:20260425T213014
CREATED:20200922T182113Z
LAST-MODIFIED:20200923T183940Z
UID:2350-1601402400-1601407800@www.montcoparalegals.org
SUMMARY:September 2020 CLE - Procedures for Uncontested Adoptions
DESCRIPTION:PROCEDURES FOR UNCONTESTED ADOPTIONSPresented by  Helen E. Casale\, EsquireHangley Aronchick Segal Pudlin & SchillerVIA WEBINAR \n\n\n\nApplying for approval of CLE 1.0 (S) by NFPA and Keystone AllianceCost: Free for MCPA Members: $10.00 for NFPA affiliated members (evidence required): $20.00 for non-members \n\n\n\nRSVP: TO REGISTER FOR THIS CLE VISIThttps://attendee.gotowebinar.com/register/880869752106636299 \n\n\n\nCollection: MONTGOMERY COUNTY OFFICE OF CHILDREN & YOUTHTo donate supplies to the Montgomery County OCY please visit their Amazon wishlist at https://www.amazon.com/hz/wishlist/ls/1668FD8RGO9L6?ref_=wl_share \n\n\n\nFor any questions\, please contact: Jennifer Echikson\, Pa.C.P.jechikson @ dischellbartle.com \n\n\n\nCLICK HERE FOR FLYER
URL:https://www.montcoparalegals.org/event/september-202-cle-procedures-for-uncontested-adoptions/
CATEGORIES:C.L.E.
END:VEVENT
BEGIN:VEVENT
DTSTART;TZID=America/New_York:20200903T180000
DTEND;TZID=America/New_York:20200903T193000
DTSTAMP:20260425T213014
CREATED:20200511T201517Z
LAST-MODIFIED:20200511T201519Z
UID:2297-1599156000-1599161400@www.montcoparalegals.org
SUMMARY:September Board Meeting
DESCRIPTION:
URL:https://www.montcoparalegals.org/event/september-board-meeting-2/
LOCATION:Dischell\, Bartle & Dooley\, PC\, 1800 Pennbrook Pkwy # 200\, Lansdale\, Pennsylvania\, United States
CATEGORIES:Meeting
END:VEVENT
BEGIN:VEVENT
DTSTART;TZID=America/New_York:20200622T143000
DTEND;TZID=America/New_York:20200622T160000
DTSTAMP:20260425T213014
CREATED:20200617T143345Z
LAST-MODIFIED:20200617T143857Z
UID:2335-1592836200-1592841600@www.montcoparalegals.org
SUMMARY:JUNE 2020 CLE Webinar:  So You Want to be a Freelance Paralegal
DESCRIPTION:When: Monday June 22\, 2020 6:30 p.m. \n\n\n\nTopic and Speaker: So You Want to be a Freelance Paralegal \n\n\n\nPresented by  Janice H. Frary\, CRP(c)\, Pa.C.P.\,Virtual Paralegal & Administrative Services\, LLC \n\n\n\nApplying for approval of CLE 1.0 (S) by NFPA and Keystone Alliance \n\n\n\nCost: Free for MCPA and FLPP Members \n\n\n\nCollection: MONTGOMERY COUNTY OFFICE OF CHILDREN & YOUTH \n\n\n\nTo donate supplies to the Montgomery County OCY\,please visit their Amazon wishlist at:(https://www.amazon.com/hz/wishlist/ls/1668FD8RGO9L6?ref_=wl_share) \n\n\n\nRSVP: Please register for this webinar at:https://attendee.gotowebinar.com/register/4922156623907447820 \n\n\n\nFor any questions\, please contact: Jennifer Echikson\, Pa.C.P.jechikson@dischellbartle.com \n\n\n\nClick Here for Flyer
URL:https://www.montcoparalegals.org/event/june-2020-cle-webinar-so-you-want-to-be-a-freelance-paralegal/
END:VEVENT
BEGIN:VEVENT
DTSTART;TZID=America/New_York:20200604T180000
DTEND;TZID=America/New_York:20200604T193000
DTSTAMP:20260425T213014
CREATED:20200511T201159Z
LAST-MODIFIED:20200511T201201Z
UID:2295-1591293600-1591299000@www.montcoparalegals.org
SUMMARY:June Board Meeting
DESCRIPTION:
URL:https://www.montcoparalegals.org/event/june-board-meeting-2/
END:VEVENT
BEGIN:VEVENT
DTSTART;TZID=America/New_York:20200526T110000
DTEND;TZID=America/New_York:20200526T123000
DTSTAMP:20260425T213014
CREATED:20200522T141929Z
LAST-MODIFIED:20200522T161600Z
UID:2310-1590490800-1590496200@www.montcoparalegals.org
SUMMARY:MAY CLE - What to Expect When the Court Re-Opens after COVID-19
DESCRIPTION:Presented by: Michael J. Lyon\, EsquireWalsh Pancio LLC \n\n\n\n**Applying for   approval of CLE 1.0 (S) by NFPA and Keystone Alliance** \n\n\n\nFree for MCPA and   FLPP Members \n\n\n\n Collection: MONTGOMERY COUNTY OFFICE OF CHILDREN & YOUTHTo donate supplies to the Montgomery County OCY\, please visit their Amazon wishlist at: \n\n\n\n(https://www.amazon.com/hz/wishlist/ls/1668FD8RGO9L6?ref_=wl_share) \n\n\n\n     PLEASE REGISTER AT:https://attendee.gotowebinar.com/register/8010281264923352079 For any questions\,   please contact:   Jennifer Echikson\, Pa.C.P.jechikson @ dischellbartle.com \n\n\n\n\n\nClick Here for Flyer.
URL:https://www.montcoparalegals.org/event/may-cle-what-to-expect-when-the-court-re-opens-after-covid-19/
CATEGORIES:C.L.E.
END:VEVENT
END:VCALENDAR