BEGIN:VCALENDAR
VERSION:2.0
PRODID:-//Montgomery County Paralegal Association - ECPv6.15.12.2//NONSGML v1.0//EN
CALSCALE:GREGORIAN
METHOD:PUBLISH
X-ORIGINAL-URL:https://www.montcoparalegals.org
X-WR-CALDESC:Events for Montgomery County Paralegal Association
REFRESH-INTERVAL;VALUE=DURATION:PT1H
X-Robots-Tag:noindex
X-PUBLISHED-TTL:PT1H
BEGIN:VTIMEZONE
TZID:America/New_York
BEGIN:DAYLIGHT
TZOFFSETFROM:-0500
TZOFFSETTO:-0400
TZNAME:EDT
DTSTART:20240310T070000
END:DAYLIGHT
BEGIN:STANDARD
TZOFFSETFROM:-0400
TZOFFSETTO:-0500
TZNAME:EST
DTSTART:20241103T060000
END:STANDARD
BEGIN:DAYLIGHT
TZOFFSETFROM:-0500
TZOFFSETTO:-0400
TZNAME:EDT
DTSTART:20250309T070000
END:DAYLIGHT
BEGIN:STANDARD
TZOFFSETFROM:-0400
TZOFFSETTO:-0500
TZNAME:EST
DTSTART:20251102T060000
END:STANDARD
BEGIN:DAYLIGHT
TZOFFSETFROM:-0500
TZOFFSETTO:-0400
TZNAME:EDT
DTSTART:20260308T070000
END:DAYLIGHT
BEGIN:STANDARD
TZOFFSETFROM:-0400
TZOFFSETTO:-0500
TZNAME:EST
DTSTART:20261101T060000
END:STANDARD
END:VTIMEZONE
BEGIN:VEVENT
DTSTART;TZID=America/New_York:20250904T181500
DTEND;TZID=America/New_York:20250904T191500
DTSTAMP:20260425T195052
CREATED:20250218T200205Z
LAST-MODIFIED:20250218T200207Z
UID:3091-1757009700-1757013300@www.montcoparalegals.org
SUMMARY:September Board Meeting
DESCRIPTION:Via Zoom
URL:https://www.montcoparalegals.org/event/september-board-meeting-3/
END:VEVENT
BEGIN:VEVENT
DTSTART;TZID=America/New_York:20250917T120000
DTEND;TZID=America/New_York:20250917T130000
DTSTAMP:20260425T195052
CREATED:20250905T132429Z
LAST-MODIFIED:20250905T132624Z
UID:3144-1758110400-1758114000@www.montcoparalegals.org
SUMMARY:Assisting with Special Education Cases
DESCRIPTION:Presented by Daniel M. Fennick \n\n\n\nNFPA and Keystone Alliance 1.0 (S) CLE (Pending) \n\n\n\nRegister Here \n\n\n\nFree for MCPA Members\, $10 for Keystone Alliance/NFPA Affiliated\, & $20 for Non-Members \n\n\n\nPay Here \n\n\n\nQuestions? Find Kelly Here
URL:https://www.montcoparalegals.org/event/assisting-with-special-education-cases/
END:VEVENT
END:VCALENDAR