BEGIN:VCALENDAR
VERSION:2.0
PRODID:-//Montgomery County Paralegal Association - ECPv6.15.12.2//NONSGML v1.0//EN
CALSCALE:GREGORIAN
METHOD:PUBLISH
X-WR-CALNAME:Montgomery County Paralegal Association
X-ORIGINAL-URL:https://www.montcoparalegals.org
X-WR-CALDESC:Events for Montgomery County Paralegal Association
REFRESH-INTERVAL;VALUE=DURATION:PT1H
X-Robots-Tag:noindex
X-PUBLISHED-TTL:PT1H
BEGIN:VTIMEZONE
TZID:America/New_York
BEGIN:DAYLIGHT
TZOFFSETFROM:-0500
TZOFFSETTO:-0400
TZNAME:EDT
DTSTART:20240310T070000
END:DAYLIGHT
BEGIN:STANDARD
TZOFFSETFROM:-0400
TZOFFSETTO:-0500
TZNAME:EST
DTSTART:20241103T060000
END:STANDARD
BEGIN:DAYLIGHT
TZOFFSETFROM:-0500
TZOFFSETTO:-0400
TZNAME:EDT
DTSTART:20250309T070000
END:DAYLIGHT
BEGIN:STANDARD
TZOFFSETFROM:-0400
TZOFFSETTO:-0500
TZNAME:EST
DTSTART:20251102T060000
END:STANDARD
BEGIN:DAYLIGHT
TZOFFSETFROM:-0500
TZOFFSETTO:-0400
TZNAME:EDT
DTSTART:20260308T070000
END:DAYLIGHT
BEGIN:STANDARD
TZOFFSETFROM:-0400
TZOFFSETTO:-0500
TZNAME:EST
DTSTART:20261101T060000
END:STANDARD
END:VTIMEZONE
BEGIN:VEVENT
DTSTART;TZID=America/New_York:20251106T181500
DTEND;TZID=America/New_York:20251106T191500
DTSTAMP:20260425T165946
CREATED:20250218T200330Z
LAST-MODIFIED:20250218T200331Z
UID:3095-1762452900-1762456500@www.montcoparalegals.org
SUMMARY:November Board Meeting
DESCRIPTION:Via Zoom
URL:https://www.montcoparalegals.org/event/november-board-meeting-3/
END:VEVENT
BEGIN:VEVENT
DTSTART;TZID=America/New_York:20251119T180000
DTEND;TZID=America/New_York:20251119T193000
DTSTAMP:20260425T165946
CREATED:20251102T122135Z
LAST-MODIFIED:20251102T122137Z
UID:3163-1763575200-1763580600@www.montcoparalegals.org
SUMMARY:HOW TO NAVIGATE ESTATES and TANGIBLE PERSONAL PROPERTY and REAL ESTATE
DESCRIPTION:Presented by Jill Kaercher\, Annette Wilson\, and Mike Gribbin \n\n\n\nNFPA and Keystone Alliance 1.0 (S) CLE \n\n\n\nRSVP by Friday November 14\, 2025\, to Kelly \n\n\n\nLight bites will be served \n\n\n\nFree for MCPA Members\, $10 for Keystone Alliance/NFPA Affiliated\, & $20 for Non-Members \n\n\n\nPay Here \n\n\n\nQuestions? Find Kelly Here
URL:https://www.montcoparalegals.org/event/how-to-navigate-estates-and-tangible-personal-property-and-real-estate/
LOCATION:501 Fairgrounds Rd\, Hatfield\, PA 19440
END:VEVENT
END:VCALENDAR